Package: DNAfusion Version: 1.8.0 Command: rm -rf DNAfusion.buildbin-libdir && mkdir DNAfusion.buildbin-libdir && /Users/biocbuild/BBS/utils/build-universal.sh DNAfusion_1.8.0.tar.gz /Library/Frameworks/R.framework/Resources/bin/R DNAfusion.buildbin-libdir StartedAt: 2025-02-05 15:38:53 -0500 (Wed, 05 Feb 2025) EndedAt: 2025-02-05 15:39:37 -0500 (Wed, 05 Feb 2025) EllapsedTime: 44.4 seconds RetCode: 0 Status: OK PackageFile: DNAfusion_1.8.0.tgz PackageFileSize: 6.316 MiB