Package: DNAfusion Version: 1.8.0 Command: /Library/Frameworks/R.framework/Resources/bin/R CMD check --install=check:DNAfusion.install-out.txt --library=/Library/Frameworks/R.framework/Resources/library --no-vignettes --timings DNAfusion_1.8.0.tar.gz StartedAt: 2025-02-11 18:03:17 -0500 (Tue, 11 Feb 2025) EndedAt: 2025-02-11 18:13:07 -0500 (Tue, 11 Feb 2025) EllapsedTime: 590.8 seconds RetCode: 0 Status: OK CheckDir: DNAfusion.Rcheck Warnings: 0