Package: DNAfusion Version: 1.8.0 Command: /Library/Frameworks/R.framework/Resources/bin/R CMD build --keep-empty-dirs --no-resave-data DNAfusion StartedAt: 2025-02-03 18:37:30 -0500 (Mon, 03 Feb 2025) EndedAt: 2025-02-03 18:43:43 -0500 (Mon, 03 Feb 2025) EllapsedTime: 372.4 seconds RetCode: 0 Status: OK PackageFile: DNAfusion_1.8.0.tar.gz PackageFileSize: 6.298 MiB