Package: DNAfusion Version: 1.8.0 Command: /Library/Frameworks/R.framework/Resources/bin/R CMD check --install=check:DNAfusion.install-out.txt --library=/Library/Frameworks/R.framework/Resources/library --no-vignettes --timings DNAfusion_1.8.0.tar.gz StartedAt: 2025-02-04 02:57:10 -0500 (Tue, 04 Feb 2025) EndedAt: 2025-02-04 03:16:36 -0500 (Tue, 04 Feb 2025) EllapsedTime: 1166.0 seconds RetCode: 0 Status: OK CheckDir: DNAfusion.Rcheck Warnings: 0