Package: DNAfusion Version: 1.8.0 Command: rm -rf DNAfusion.buildbin-libdir && mkdir DNAfusion.buildbin-libdir && F:\biocbuild\bbs-3.20-bioc\R\bin\R.exe CMD INSTALL --build --library=DNAfusion.buildbin-libdir DNAfusion_1.8.0.tar.gz StartedAt: 2025-02-04 08:23:59 -0500 (Tue, 04 Feb 2025) EndedAt: 2025-02-04 08:24:45 -0500 (Tue, 04 Feb 2025) EllapsedTime: 45.9 seconds RetCode: 0 Status: OK PackageFile: DNAfusion_1.8.0.zip PackageFileSize: 6.317 MiB