Package: DNAfusion Version: 1.8.0 Command: F:\biocbuild\bbs-3.20-bioc\R\bin\R.exe CMD check --no-multiarch --install=check:DNAfusion.install-out.txt --library=F:\biocbuild\bbs-3.20-bioc\R\library --no-vignettes --timings DNAfusion_1.8.0.tar.gz StartedAt: 2025-02-04 01:20:45 -0500 (Tue, 04 Feb 2025) EndedAt: 2025-02-04 01:30:35 -0500 (Tue, 04 Feb 2025) EllapsedTime: 589.7 seconds RetCode: 0 Status: OK CheckDir: DNAfusion.Rcheck Warnings: 0