Package: DNAfusion Version: 1.8.0 Command: F:\biocbuild\bbs-3.20-bioc\R\bin\R.exe CMD INSTALL DNAfusion StartedAt: 2025-02-10 16:21:58 -0500 (Mon, 10 Feb 2025) EndedAt: 2025-02-10 16:22:40 -0500 (Mon, 10 Feb 2025) EllapsedTime: 41.9 seconds RetCode: 0 Status: OK