Package: DNAfusion Version: 1.8.0 Command: /home/biocbuild/R/R/bin/R CMD INSTALL DNAfusion StartedAt: 2025-02-10 20:29:05 -0000 (Mon, 10 Feb 2025) EndedAt: 2025-02-10 20:29:48 -0000 (Mon, 10 Feb 2025) EllapsedTime: 43.0 seconds RetCode: 0 Status: OK