Package: DRIMSeq Version: 1.34.0 Command: /Library/Frameworks/R.framework/Resources/bin/R CMD build --keep-empty-dirs --no-resave-data DRIMSeq StartedAt: 2025-02-10 23:00:38 -0500 (Mon, 10 Feb 2025) EndedAt: 2025-02-10 23:03:23 -0500 (Mon, 10 Feb 2025) EllapsedTime: 164.5 seconds RetCode: 0 Status: OK PackageFile: DRIMSeq_1.34.0.tar.gz PackageFileSize: 481.5 KiB