Package: DRIMSeq Version: 1.34.0 Command: /Library/Frameworks/R.framework/Resources/bin/R CMD check --install=check:DRIMSeq.install-out.txt --library=/Library/Frameworks/R.framework/Resources/library --no-vignettes --timings DRIMSeq_1.34.0.tar.gz StartedAt: 2025-02-04 18:31:13 -0500 (Tue, 04 Feb 2025) EndedAt: 2025-02-04 18:34:56 -0500 (Tue, 04 Feb 2025) EllapsedTime: 222.9 seconds RetCode: 0 Status: WARNINGS CheckDir: DRIMSeq.Rcheck Warnings: 1