Package: DRIMSeq Version: 1.34.0 Command: /Library/Frameworks/R.framework/Resources/bin/R CMD INSTALL DRIMSeq StartedAt: 2025-02-10 15:50:27 -0500 (Mon, 10 Feb 2025) EndedAt: 2025-02-10 15:50:43 -0500 (Mon, 10 Feb 2025) EllapsedTime: 15.8 seconds RetCode: 0 Status: OK