Package: DRIMSeq Version: 1.34.0 Command: /Library/Frameworks/R.framework/Resources/bin/R CMD build --keep-empty-dirs --no-resave-data DRIMSeq StartedAt: 2025-02-03 18:39:45 -0500 (Mon, 03 Feb 2025) EndedAt: 2025-02-03 18:45:37 -0500 (Mon, 03 Feb 2025) EllapsedTime: 351.9 seconds RetCode: 0 Status: OK PackageFile: DRIMSeq_1.34.0.tar.gz PackageFileSize: 481.7 KiB