Package: DRIMSeq Version: 1.34.0 Command: /home/biocbuild/bbs-3.20-bioc/R/bin/R CMD build --keep-empty-dirs --no-resave-data --md5 DRIMSeq StartedAt: 2025-01-30 17:06:12 -0500 (Thu, 30 Jan 2025) EndedAt: 2025-01-30 17:08:28 -0500 (Thu, 30 Jan 2025) EllapsedTime: 136.2 seconds RetCode: 0 Status: OK PackageFile: DRIMSeq_1.34.0.tar.gz PackageFileSize: 484 KiB