Package: DRIMSeq Version: 1.34.0 Command: /home/biocbuild/bbs-3.20-bioc/R/bin/R CMD check --install=check:DRIMSeq.install-out.txt --library=/home/biocbuild/bbs-3.20-bioc/R/site-library --timings DRIMSeq_1.34.0.tar.gz StartedAt: 2025-01-30 21:48:01 -0500 (Thu, 30 Jan 2025) EndedAt: 2025-01-30 21:53:23 -0500 (Thu, 30 Jan 2025) EllapsedTime: 322.3 seconds RetCode: 0 Status: WARNINGS CheckDir: DRIMSeq.Rcheck Warnings: 1