Package: DRIMSeq Version: 1.34.0 Command: rm -rf DRIMSeq.buildbin-libdir && mkdir DRIMSeq.buildbin-libdir && F:\biocbuild\bbs-3.20-bioc\R\bin\R.exe CMD INSTALL --build --library=DRIMSeq.buildbin-libdir DRIMSeq_1.34.0.tar.gz StartedAt: 2025-01-31 08:34:33 -0500 (Fri, 31 Jan 2025) EndedAt: 2025-01-31 08:35:23 -0500 (Fri, 31 Jan 2025) EllapsedTime: 49.6 seconds RetCode: 0 Status: OK PackageFile: DRIMSeq_1.34.0.zip PackageFileSize: 785.2 KiB