Package: DRIMSeq Version: 1.34.0 Command: F:\biocbuild\bbs-3.20-bioc\R\bin\R.exe CMD check --no-multiarch --install=check:DRIMSeq.install-out.txt --library=F:\biocbuild\bbs-3.20-bioc\R\library --no-vignettes --timings DRIMSeq_1.34.0.tar.gz StartedAt: 2025-01-31 01:35:56 -0500 (Fri, 31 Jan 2025) EndedAt: 2025-01-31 01:40:09 -0500 (Fri, 31 Jan 2025) EllapsedTime: 252.7 seconds RetCode: 0 Status: WARNINGS CheckDir: DRIMSeq.Rcheck Warnings: 1