Package: DSS Version: 2.54.0 Command: /Library/Frameworks/R.framework/Resources/bin/R CMD build --keep-empty-dirs --no-resave-data DSS StartedAt: 2025-01-30 18:49:40 -0500 (Thu, 30 Jan 2025) EndedAt: 2025-01-30 18:52:17 -0500 (Thu, 30 Jan 2025) EllapsedTime: 157.2 seconds RetCode: 0 Status: OK PackageFile: DSS_2.54.0.tar.gz PackageFileSize: 2.029 MiB