Package: DSS Version: 2.54.0 Command: /Library/Frameworks/R.framework/Resources/bin/R CMD check --install=check:DSS.install-out.txt --library=/Library/Frameworks/R.framework/Resources/library --no-vignettes --timings DSS_2.54.0.tar.gz StartedAt: 2025-01-31 03:18:46 -0500 (Fri, 31 Jan 2025) EndedAt: 2025-01-31 03:28:37 -0500 (Fri, 31 Jan 2025) EllapsedTime: 591.2 seconds RetCode: 0 Status: WARNINGS CheckDir: DSS.Rcheck Warnings: 1