Package: DSS Version: 2.54.0 Command: /Library/Frameworks/R.framework/Resources/bin/R CMD INSTALL DSS StartedAt: 2025-01-30 15:41:40 -0500 (Thu, 30 Jan 2025) EndedAt: 2025-01-30 15:43:05 -0500 (Thu, 30 Jan 2025) EllapsedTime: 85.7 seconds RetCode: 0 Status: OK