Package: DSS Version: 2.54.0 Command: rm -rf DSS.buildbin-libdir && mkdir DSS.buildbin-libdir && F:\biocbuild\bbs-3.20-bioc\R\bin\R.exe CMD INSTALL --build --library=DSS.buildbin-libdir DSS_2.54.0.tar.gz StartedAt: 2025-02-04 08:24:51 -0500 (Tue, 04 Feb 2025) EndedAt: 2025-02-04 08:26:04 -0500 (Tue, 04 Feb 2025) EllapsedTime: 72.8 seconds RetCode: 0 Status: OK PackageFile: DSS_2.54.0.zip PackageFileSize: 1.605 MiB