Package: DSS Version: 2.54.0 Command: F:\biocbuild\bbs-3.20-bioc\R\bin\R.exe CMD check --no-multiarch --install=check:DSS.install-out.txt --library=F:\biocbuild\bbs-3.20-bioc\R\library --no-vignettes --timings DSS_2.54.0.tar.gz StartedAt: 2025-02-04 01:25:19 -0500 (Tue, 04 Feb 2025) EndedAt: 2025-02-04 01:30:37 -0500 (Tue, 04 Feb 2025) EllapsedTime: 317.5 seconds RetCode: 0 Status: WARNINGS CheckDir: DSS.Rcheck Warnings: 1