Package: DSS Version: 2.54.0 Command: /home/biocbuild/R/R/bin/R CMD build --keep-empty-dirs --no-resave-data DSS StartedAt: 2025-02-10 23:07:07 -0000 (Mon, 10 Feb 2025) EndedAt: 2025-02-10 23:08:20 -0000 (Mon, 10 Feb 2025) EllapsedTime: 73.0 seconds RetCode: 0 Status: OK PackageFile: DSS_2.54.0.tar.gz PackageFileSize: 2.093 MiB