Package: DSS Version: 2.54.0 Command: /home/biocbuild/R/R/bin/R CMD check --install=check:DSS.install-out.txt --library=/home/biocbuild/R/R/site-library --no-vignettes --timings DSS_2.54.0.tar.gz StartedAt: 2025-02-04 06:36:50 -0000 (Tue, 04 Feb 2025) EndedAt: 2025-02-04 06:42:29 -0000 (Tue, 04 Feb 2025) EllapsedTime: 339.5 seconds RetCode: 0 Status: WARNINGS CheckDir: DSS.Rcheck Warnings: 1