Package: DaMiRseq Version: 2.18.0 Command: /Library/Frameworks/R.framework/Resources/bin/R CMD build --keep-empty-dirs --no-resave-data DaMiRseq StartedAt: 2025-02-03 21:55:15 -0500 (Mon, 03 Feb 2025) EndedAt: 2025-02-03 22:04:08 -0500 (Mon, 03 Feb 2025) EllapsedTime: 533.2 seconds RetCode: 0 Status: OK PackageFile: DaMiRseq_2.18.0.tar.gz PackageFileSize: 4.216 MiB