Package: DaMiRseq Version: 2.18.0 Command: /Library/Frameworks/R.framework/Resources/bin/R CMD check --install=check:DaMiRseq.install-out.txt --library=/Library/Frameworks/R.framework/Resources/library --no-vignettes --timings DaMiRseq_2.18.0.tar.gz StartedAt: 2025-02-04 17:11:40 -0500 (Tue, 04 Feb 2025) EndedAt: 2025-02-04 17:19:01 -0500 (Tue, 04 Feb 2025) EllapsedTime: 440.9 seconds RetCode: 0 Status: OK CheckDir: DaMiRseq.Rcheck Warnings: 0