Package: DaMiRseq Version: 2.18.0 Command: /Library/Frameworks/R.framework/Resources/bin/R CMD INSTALL DaMiRseq StartedAt: 2025-02-03 17:38:31 -0500 (Mon, 03 Feb 2025) EndedAt: 2025-02-03 17:39:39 -0500 (Mon, 03 Feb 2025) EllapsedTime: 67.8 seconds RetCode: 0 Status: OK