Package: DaMiRseq Version: 2.18.0 Command: rm -rf DaMiRseq.buildbin-libdir && mkdir DaMiRseq.buildbin-libdir && /Users/biocbuild/BBS/utils/build-universal.sh DaMiRseq_2.18.0.tar.gz /Library/Frameworks/R.framework/Resources/bin/R DaMiRseq.buildbin-libdir StartedAt: 2025-02-04 12:46:48 -0500 (Tue, 04 Feb 2025) EndedAt: 2025-02-04 12:48:58 -0500 (Tue, 04 Feb 2025) EllapsedTime: 129.6 seconds RetCode: 0 Status: OK PackageFile: DaMiRseq_2.18.0.tgz PackageFileSize: 4.466 MiB