Package: DaMiRseq Version: 2.18.0 Command: /Library/Frameworks/R.framework/Resources/bin/R CMD build --keep-empty-dirs --no-resave-data DaMiRseq StartedAt: 2025-02-03 18:17:40 -0500 (Mon, 03 Feb 2025) EndedAt: 2025-02-03 18:41:16 -0500 (Mon, 03 Feb 2025) EllapsedTime: 1416.7 seconds RetCode: 0 Status: OK PackageFile: DaMiRseq_2.18.0.tar.gz PackageFileSize: 4.216 MiB