Package: DaMiRseq Version: 2.18.0 Command: /home/biocbuild/bbs-3.20-bioc/R/bin/R CMD build --keep-empty-dirs --no-resave-data --md5 DaMiRseq StartedAt: 2025-02-03 17:04:46 -0500 (Mon, 03 Feb 2025) EndedAt: 2025-02-03 17:12:11 -0500 (Mon, 03 Feb 2025) EllapsedTime: 444.5 seconds RetCode: 0 Status: OK PackageFile: DaMiRseq_2.18.0.tar.gz PackageFileSize: 4.219 MiB