Package: DaMiRseq Version: 2.18.0 Command: /home/biocbuild/bbs-3.20-bioc/R/bin/R CMD check --install=check:DaMiRseq.install-out.txt --library=/home/biocbuild/bbs-3.20-bioc/R/site-library --timings DaMiRseq_2.18.0.tar.gz StartedAt: 2025-02-03 21:32:47 -0500 (Mon, 03 Feb 2025) EndedAt: 2025-02-03 21:46:21 -0500 (Mon, 03 Feb 2025) EllapsedTime: 813.7 seconds RetCode: 0 Status: OK CheckDir: DaMiRseq.Rcheck Warnings: 0