Package: DaMiRseq Version: 2.18.0 Command: /home/biocbuild/bbs-3.20-bioc/R/bin/R CMD INSTALL DaMiRseq StartedAt: 2025-02-03 15:59:04 -0500 (Mon, 03 Feb 2025) EndedAt: 2025-02-03 16:00:07 -0500 (Mon, 03 Feb 2025) EllapsedTime: 63.3 seconds RetCode: 0 Status: OK