Package: DaMiRseq Version: 2.18.0 Command: chmod a+r DaMiRseq -R && F:\biocbuild\bbs-3.20-bioc\R\bin\R.exe CMD build --keep-empty-dirs --no-resave-data DaMiRseq StartedAt: 2025-02-03 18:29:47 -0500 (Mon, 03 Feb 2025) EndedAt: 2025-02-03 18:39:44 -0500 (Mon, 03 Feb 2025) EllapsedTime: 596.6 seconds RetCode: 0 Status: OK PackageFile: DaMiRseq_2.18.0.tar.gz PackageFileSize: 4.222 MiB