Package: DaMiRseq Version: 2.18.0 Command: /home/biocbuild/R/R/bin/R CMD check --install=check:DaMiRseq.install-out.txt --library=/home/biocbuild/R/R/site-library --no-vignettes --timings DaMiRseq_2.18.0.tar.gz StartedAt: 2025-01-31 05:26:03 -0000 (Fri, 31 Jan 2025) EndedAt: 2025-01-31 05:34:19 -0000 (Fri, 31 Jan 2025) EllapsedTime: 496.4 seconds RetCode: 0 Status: OK CheckDir: DaMiRseq.Rcheck Warnings: 0