Package: DaMiRseq Version: 2.18.0 Command: /home/biocbuild/R/R/bin/R CMD INSTALL DaMiRseq StartedAt: 2025-01-30 20:58:05 -0000 (Thu, 30 Jan 2025) EndedAt: 2025-01-30 20:59:15 -0000 (Thu, 30 Jan 2025) EllapsedTime: 70.0 seconds RetCode: 0 Status: OK