Package: Damsel Version: 1.2.0 Command: /Library/Frameworks/R.framework/Resources/bin/R CMD check --install=check:Damsel.install-out.txt --library=/Library/Frameworks/R.framework/Resources/library --no-vignettes --timings Damsel_1.2.0.tar.gz StartedAt: 2025-01-31 16:45:53 -0500 (Fri, 31 Jan 2025) EndedAt: 2025-01-31 16:49:41 -0500 (Fri, 31 Jan 2025) EllapsedTime: 227.4 seconds RetCode: 0 Status: OK CheckDir: Damsel.Rcheck Warnings: 0