Package: Damsel Version: 1.2.0 Command: /Library/Frameworks/R.framework/Resources/bin/R CMD check --install=check:Damsel.install-out.txt --library=/Library/Frameworks/R.framework/Resources/library --no-vignettes --timings Damsel_1.2.0.tar.gz StartedAt: 2025-02-04 02:17:17 -0500 (Tue, 04 Feb 2025) EndedAt: 2025-02-04 02:25:36 -0500 (Tue, 04 Feb 2025) EllapsedTime: 498.8 seconds RetCode: 0 Status: OK CheckDir: Damsel.Rcheck Warnings: 0