Package: Damsel Version: 1.2.0 Command: /Library/Frameworks/R.framework/Resources/bin/R CMD INSTALL Damsel StartedAt: 2025-02-03 16:08:15 -0500 (Mon, 03 Feb 2025) EndedAt: 2025-02-03 16:08:27 -0500 (Mon, 03 Feb 2025) EllapsedTime: 12.1 seconds RetCode: 0 Status: OK