Package: Damsel Version: 1.2.0 Command: /home/biocbuild/bbs-3.20-bioc/R/bin/R CMD check --install=check:Damsel.install-out.txt --library=/home/biocbuild/bbs-3.20-bioc/R/site-library --timings Damsel_1.2.0.tar.gz StartedAt: 2025-01-30 21:23:02 -0500 (Thu, 30 Jan 2025) EndedAt: 2025-01-30 21:28:39 -0500 (Thu, 30 Jan 2025) EllapsedTime: 336.3 seconds RetCode: 0 Status: OK CheckDir: Damsel.Rcheck Warnings: 0