Package: Damsel Version: 1.2.0 Command: chmod a+r Damsel -R && F:\biocbuild\bbs-3.20-bioc\R\bin\R.exe CMD build --keep-empty-dirs --no-resave-data Damsel StartedAt: 2025-02-03 18:30:37 -0500 (Mon, 03 Feb 2025) EndedAt: 2025-02-03 18:36:11 -0500 (Mon, 03 Feb 2025) EllapsedTime: 334.2 seconds RetCode: 0 Status: OK PackageFile: Damsel_1.2.0.tar.gz PackageFileSize: 2.069 MiB