Package: Damsel Version: 1.2.0 Command: /home/biocbuild/R/R/bin/R CMD build --keep-empty-dirs --no-resave-data Damsel StartedAt: 2025-02-03 23:00:20 -0000 (Mon, 03 Feb 2025) EndedAt: 2025-02-03 23:03:29 -0000 (Mon, 03 Feb 2025) EllapsedTime: 189.1 seconds RetCode: 0 Status: OK PackageFile: Damsel_1.2.0.tar.gz PackageFileSize: 2.356 MiB