Package: Damsel Version: 1.2.0 Command: /home/biocbuild/R/R/bin/R CMD check --install=check:Damsel.install-out.txt --library=/home/biocbuild/R/R/site-library --no-vignettes --timings Damsel_1.2.0.tar.gz StartedAt: 2025-02-04 06:11:51 -0000 (Tue, 04 Feb 2025) EndedAt: 2025-02-04 06:15:52 -0000 (Tue, 04 Feb 2025) EllapsedTime: 241.3 seconds RetCode: 0 Status: OK CheckDir: Damsel.Rcheck Warnings: 0