Package: DeMAND Version: 1.36.0 Command: rm -rf DeMAND.buildbin-libdir && mkdir DeMAND.buildbin-libdir && /Users/biocbuild/BBS/utils/build-universal.sh DeMAND_1.36.0.tar.gz /Library/Frameworks/R.framework/Resources/bin/R DeMAND.buildbin-libdir StartedAt: 2025-02-05 15:33:46 -0500 (Wed, 05 Feb 2025) EndedAt: 2025-02-05 15:33:49 -0500 (Wed, 05 Feb 2025) EllapsedTime: 3.4 seconds RetCode: 0 Status: OK PackageFile: DeMAND_1.36.0.tgz PackageFileSize: 350.9 KiB