Package: DeMAND Version: 1.36.0 Command: /home/biocbuild/bbs-3.20-bioc/R/bin/R CMD check --install=check:DeMAND.install-out.txt --library=/home/biocbuild/bbs-3.20-bioc/R/site-library --timings DeMAND_1.36.0.tar.gz StartedAt: 2025-02-03 21:43:32 -0500 (Mon, 03 Feb 2025) EndedAt: 2025-02-03 21:43:53 -0500 (Mon, 03 Feb 2025) EllapsedTime: 21.0 seconds RetCode: 0 Status: OK CheckDir: DeMAND.Rcheck Warnings: 0