Package: DeMAND Version: 1.36.0 Command: rm -rf DeMAND.buildbin-libdir && mkdir DeMAND.buildbin-libdir && F:\biocbuild\bbs-3.20-bioc\R\bin\R.exe CMD INSTALL --build --library=DeMAND.buildbin-libdir DeMAND_1.36.0.tar.gz StartedAt: 2025-02-04 08:21:32 -0500 (Tue, 04 Feb 2025) EndedAt: 2025-02-04 08:21:38 -0500 (Tue, 04 Feb 2025) EllapsedTime: 5.9 seconds RetCode: 0 Status: OK PackageFile: DeMAND_1.36.0.zip PackageFileSize: 203.3 KiB