Package: DeMAND Version: 1.36.0 Command: chmod a+r DeMAND -R && F:\biocbuild\bbs-3.20-bioc\R\bin\R.exe CMD build --keep-empty-dirs --no-resave-data DeMAND StartedAt: 2025-02-03 18:37:15 -0500 (Mon, 03 Feb 2025) EndedAt: 2025-02-03 18:37:28 -0500 (Mon, 03 Feb 2025) EllapsedTime: 13.0 seconds RetCode: 0 Status: OK PackageFile: DeMAND_1.36.0.tar.gz PackageFileSize: 167.7 KiB