Package: DeMAND Version: 1.36.0 Command: /home/biocbuild/R/R/bin/R CMD build --keep-empty-dirs --no-resave-data DeMAND StartedAt: 2025-02-03 23:07:22 -0000 (Mon, 03 Feb 2025) EndedAt: 2025-02-03 23:07:29 -0000 (Mon, 03 Feb 2025) EllapsedTime: 7.0 seconds RetCode: 0 Status: OK PackageFile: DeMAND_1.36.0.tar.gz PackageFileSize: 310.9 KiB