Package: DeMAND Version: 1.36.0 Command: /home/biocbuild/R/R/bin/R CMD INSTALL DeMAND StartedAt: 2025-02-03 20:22:03 -0000 (Mon, 03 Feb 2025) EndedAt: 2025-02-03 20:22:06 -0000 (Mon, 03 Feb 2025) EllapsedTime: 2.9 seconds RetCode: 0 Status: OK