Package: DeconRNASeq Version: 1.48.0 Command: /home/biocbuild/R/R/bin/R CMD INSTALL DeconRNASeq StartedAt: 2025-02-03 20:29:10 -0000 (Mon, 03 Feb 2025) EndedAt: 2025-02-03 20:29:18 -0000 (Mon, 03 Feb 2025) EllapsedTime: 7.2 seconds RetCode: 0 Status: OK