Package: DeepTarget Version: 1.0.0 Command: /Library/Frameworks/R.framework/Resources/bin/R CMD INSTALL DeepTarget StartedAt: 2025-02-03 18:08:51 -0500 (Mon, 03 Feb 2025) EndedAt: 2025-02-03 18:09:15 -0500 (Mon, 03 Feb 2025) EllapsedTime: 24.2 seconds RetCode: 0 Status: OK