Package: DeepTarget Version: 1.0.0 Command: /home/biocbuild/bbs-3.20-bioc/R/bin/R CMD build --keep-empty-dirs --no-resave-data --md5 DeepTarget StartedAt: 2025-01-30 16:57:48 -0500 (Thu, 30 Jan 2025) EndedAt: 2025-01-30 16:58:25 -0500 (Thu, 30 Jan 2025) EllapsedTime: 37.0 seconds RetCode: 0 Status: OK PackageFile: DeepTarget_1.0.0.tar.gz PackageFileSize: 2.72 MiB